BEGIN:VCALENDAR
VERSION:2.0
PRODID:-//jEvents 2.0 for Joomla//EN
CALSCALE:GREGORIAN
METHOD:PUBLISH
BEGIN:VEVENT
UID:5b2f3c192b25f906625ca773aa48d2cb
CATEGORIES:Veranstaltungen
CREATED:20240122T083636
SUMMARY:Klassenkonferenz 5a
DESCRIPTION:
DTSTAMP:20260425T152702
DTSTART:20240418T121500
DTEND:20240418T130000
SEQUENCE:0
TRANSP:OPAQUE
END:VEVENT
END:VCALENDAR