BEGIN:VCALENDAR
VERSION:2.0
PRODID:-//jEvents 2.0 for Joomla//EN
CALSCALE:GREGORIAN
METHOD:PUBLISH
BEGIN:VEVENT
UID:e1a60e5f20f813795078d4083f621572
CATEGORIES:Veranstaltungen
CREATED:20240122T083551
SUMMARY:Noteneintragung Klassen 5a, 5wa und 5wb
DESCRIPTION:
DTSTAMP:20260425T153806
DTSTART:20240418T100000
DTEND:20240418T110000
SEQUENCE:0
TRANSP:OPAQUE
END:VEVENT
END:VCALENDAR