BEGIN:VCALENDAR
VERSION:2.0
PRODID:-//jEvents 2.0 for Joomla//EN
CALSCALE:GREGORIAN
METHOD:PUBLISH
BEGIN:VEVENT
UID:38af532dfdb27aad21eeff9c8c1743e3
CATEGORIES:Veranstaltungen
CREATED:20240122T083455
SUMMARY:Notenschluss Klassen 5a, 5wa und 5wb
DESCRIPTION:
DTSTAMP:20260425T154430
DTSTART:20240418T100000
DTEND:20240418T110000
SEQUENCE:0
TRANSP:OPAQUE
END:VEVENT
END:VCALENDAR