BEGIN:VCALENDAR
VERSION:2.0
PRODID:-//jEvents 2.0 for Joomla//EN
CALSCALE:GREGORIAN
METHOD:PUBLISH
BEGIN:VEVENT
UID:5ae3289dc527147941a59dab570efedf
CATEGORIES:Veranstaltungen
CREATED:20240122T083403
SUMMARY:Notenkonferenz 2.Semester 2023/24
DESCRIPTION:
DTSTAMP:20260425T204332
DTSTART:20240628T103000
DTEND:20240628T150000
SEQUENCE:0
TRANSP:OPAQUE
END:VEVENT
END:VCALENDAR