BEGIN:VCALENDAR
VERSION:2.0
PRODID:-//jEvents 2.0 for Joomla//EN
CALSCALE:GREGORIAN
METHOD:PUBLISH
BEGIN:VEVENT
UID:f04732a8083cb6725c30009af7235522
CATEGORIES:Veranstaltungen
CREATED:20240122T083323
SUMMARY:Noteneintragung 2.Semester 2023/24
DESCRIPTION:
DTSTAMP:20260425T185602
DTSTART:20240627T160000
DTEND:20240627T210000
SEQUENCE:0
TRANSP:OPAQUE
END:VEVENT
END:VCALENDAR