BEGIN:VCALENDAR
VERSION:2.0
PRODID:-//jEvents 2.0 for Joomla//EN
CALSCALE:GREGORIAN
METHOD:PUBLISH
BEGIN:VEVENT
UID:1db37a73f815893be4e8e940645c7a7e
CATEGORIES:Veranstaltungen
CREATED:20240122T083228
SUMMARY:Notenschluss 2.Semester 2023/24
DESCRIPTION:
DTSTAMP:20260425T185253
DTSTART:20240627T120000
DTEND:20240627T210000
SEQUENCE:0
TRANSP:OPAQUE
END:VEVENT
END:VCALENDAR