BEGIN:VCALENDAR
VERSION:2.0
PRODID:-//jEvents 2.0 for Joomla//EN
CALSCALE:GREGORIAN
METHOD:PUBLISH
BEGIN:VEVENT
UID:ede727c3b9b014a1c1f58cd2d127175d
CATEGORIES:Veranstaltungen
CREATED:20240122T083138
SUMMARY:Notenkonferenz 1.Semester 2023/24
DESCRIPTION:
DTSTAMP:20260425T140001
DTSTART:20240206T130000
DTEND:20240206T160000
SEQUENCE:0
TRANSP:OPAQUE
END:VEVENT
END:VCALENDAR