BEGIN:VCALENDAR
VERSION:2.0
PRODID:-//jEvents 2.0 for Joomla//EN
CALSCALE:GREGORIAN
METHOD:PUBLISH
BEGIN:VEVENT
UID:d0dcd43086c5e41368787121cebc84ef
CATEGORIES:Veranstaltungen
CREATED:20240122T083035
SUMMARY:Noteneintrag 1.Semester 2023/24
DESCRIPTION:
DTSTAMP:20260425T140138
DTSTART:20240205T170000
DTEND:20240205T220000
SEQUENCE:0
TRANSP:OPAQUE
END:VEVENT
END:VCALENDAR