BEGIN:VCALENDAR
VERSION:2.0
PRODID:-//jEvents 2.0 for Joomla//EN
CALSCALE:GREGORIAN
METHOD:PUBLISH
BEGIN:VEVENT
UID:2055b439fd16adc1134a22d46bd2e2a4
CATEGORIES:Veranstaltungen
CREATED:20240122T082946
SUMMARY:Notenschluss 1.Semester 2023/24
DESCRIPTION:
DTSTAMP:20260425T140504
DTSTART:20240205T130000
DTEND:20240205T210000
SEQUENCE:0
TRANSP:OPAQUE
END:VEVENT
END:VCALENDAR