BEGIN:VCALENDAR
VERSION:2.0
PRODID:-//jEvents 2.0 for Joomla//EN
CALSCALE:GREGORIAN
METHOD:PUBLISH
BEGIN:VEVENT
UID:c7061a25c0b1985616f6128e5d2281f1
CATEGORIES:Veranstaltungen
CREATED:20240112T152048
SUMMARY:Jugendredewettbewerb VZ Breitenwang
DESCRIPTION:
DTSTAMP:20260425T153813
DTSTART:20240403T153000
DTEND:20240403T180000
SEQUENCE:0
TRANSP:OPAQUE
END:VEVENT
END:VCALENDAR