BEGIN:VCALENDAR
VERSION:2.0
PRODID:-//jEvents 2.0 for Joomla//EN
CALSCALE:GREGORIAN
METHOD:PUBLISH
BEGIN:VEVENT
UID:5596d40e4b6695825528ed2b4c25b1fb
CATEGORIES:Veranstaltungen
CREATED:20240112T090346
SUMMARY:mündliche Reife- und Diplomprüfung 5wb
DESCRIPTION:
DTSTAMP:20260425T191118
DTSTART:20240624T060000
DTEND:20240625T150000
SEQUENCE:0
TRANSP:OPAQUE
END:VEVENT
END:VCALENDAR