BEGIN:VCALENDAR
VERSION:2.0
PRODID:-//jEvents 2.0 for Joomla//EN
CALSCALE:GREGORIAN
METHOD:PUBLISH
BEGIN:VEVENT
UID:84ced1abcc13618fd926cdec12cd22ef
CATEGORIES:Veranstaltungen
CREATED:20240112T090312
SUMMARY:mündliche Reife- und Diplomprüfung 5wa
DESCRIPTION:
DTSTAMP:20260425T185607
DTSTART:20240620T060000
DTEND:20240621T150000
SEQUENCE:0
TRANSP:OPAQUE
END:VEVENT
END:VCALENDAR