BEGIN:VCALENDAR
VERSION:2.0
PRODID:-//jEvents 2.0 for Joomla//EN
CALSCALE:GREGORIAN
METHOD:PUBLISH
BEGIN:VEVENT
UID:3ce89464d2267788802dfa1a6f8498cc
CATEGORIES:Veranstaltungen
CREATED:20240112T090231
SUMMARY:mündliche Reife- und Diplomprüfung 5a
DESCRIPTION:
DTSTAMP:20260425T190552
DTSTART:20240617T060000
DTEND:20240619T150000
SEQUENCE:0
TRANSP:OPAQUE
END:VEVENT
END:VCALENDAR