BEGIN:VCALENDAR
VERSION:2.0
PRODID:-//jEvents 2.0 for Joomla//EN
CALSCALE:GREGORIAN
METHOD:PUBLISH
BEGIN:VEVENT
UID:b86b2c0d764ebfbb874cc4fa91638065
CATEGORIES:Veranstaltungen
CREATED:20240112T090051
SUMMARY:Nacht der Projekte
DESCRIPTION:
DTSTAMP:20260425T154205
DTSTART:20240411T150000
DTEND:20240411T190000
SEQUENCE:0
TRANSP:OPAQUE
END:VEVENT
END:VCALENDAR