BEGIN:VCALENDAR
VERSION:2.0
PRODID:-//jEvents 2.0 for Joomla//EN
CALSCALE:GREGORIAN
METHOD:PUBLISH
BEGIN:VEVENT
UID:c3ee60bbff361f354f9306b8ad85dc1e
CATEGORIES:Veranstaltungen
CREATED:20240112T085854
SUMMARY:Praktische Prüfungen Klasse 4wb
DESCRIPTION:
DTSTAMP:20260425T171129
DTSTART:20240521T060000
DTEND:20240523T160000
SEQUENCE:0
TRANSP:OPAQUE
END:VEVENT
END:VCALENDAR