BEGIN:VCALENDAR
VERSION:2.0
PRODID:-//jEvents 2.0 for Joomla//EN
CALSCALE:GREGORIAN
METHOD:PUBLISH
BEGIN:VEVENT
UID:a01bd66eefb2d019586dde6e0b94e6cd
CATEGORIES:Veranstaltungen
CREATED:20240112T085733
SUMMARY:praktische Prüfungen Klasse 4wa
DESCRIPTION:
DTSTAMP:20260425T171143
DTSTART:20240515T060000
DTEND:20240517T160000
SEQUENCE:0
TRANSP:OPAQUE
END:VEVENT
END:VCALENDAR