BEGIN:VCALENDAR
VERSION:2.0
PRODID:-//jEvents 2.0 for Joomla//EN
CALSCALE:GREGORIAN
METHOD:PUBLISH
BEGIN:VEVENT
UID:0b20d4c0660f347506b9deb4dc994068
CATEGORIES:Veranstaltungen
CREATED:20240112T084420
SUMMARY:Präsentationen Diplomarbeiten 5a
DESCRIPTION:
DTSTAMP:20260425T171123
DTSTART:20240314T070000
DTEND:20240314T160000
SEQUENCE:0
TRANSP:OPAQUE
END:VEVENT
END:VCALENDAR