BEGIN:VCALENDAR
VERSION:2.0
PRODID:-//jEvents 2.0 for Joomla//EN
CALSCALE:GREGORIAN
METHOD:PUBLISH
BEGIN:VEVENT
UID:09787fb23a281c339befdfbd3aff372c
CATEGORIES:Veranstaltungen
CREATED:20240112T084351
SUMMARY:Präsentationen Diplomarbeiten 5wa/5wb
DESCRIPTION:
DTSTAMP:20260425T171148
DTSTART:20240313T070000
DTEND:20240313T160000
SEQUENCE:0
TRANSP:OPAQUE
END:VEVENT
END:VCALENDAR