BEGIN:VCALENDAR
VERSION:2.0
PRODID:-//jEvents 2.0 for Joomla//EN
CALSCALE:GREGORIAN
METHOD:PUBLISH
BEGIN:VEVENT
UID:88723ce249a749e1c934644acc1e4550
CATEGORIES:Veranstaltungen
CREATED:20240112T082653
SUMMARY:schriftliche Reife- und Diplomprüfung 2023/24 BFK/ABR
DESCRIPTION:
DTSTAMP:20260425T152901
DTSTART:20240429T060000
DTEND:20240429T120000
SEQUENCE:0
TRANSP:OPAQUE
END:VEVENT
END:VCALENDAR