BEGIN:VCALENDAR
VERSION:2.0
PRODID:-//jEvents 2.0 for Joomla//EN
CALSCALE:GREGORIAN
METHOD:PUBLISH
BEGIN:VEVENT
UID:e91ecdfe1d044043f3dcb87fa7c2f01b
CATEGORIES:Veranstaltungen
CREATED:20231211T155238
SUMMARY:2. pädagogische Konferenz
DESCRIPTION:
DTSTAMP:20260425T171615
DTSTART:20231220T150500
DTEND:20231220T170000
SEQUENCE:0
TRANSP:OPAQUE
END:VEVENT
END:VCALENDAR