BEGIN:VCALENDAR
VERSION:2.0
PRODID:-//jEvents 2.0 for Joomla//EN
CALSCALE:GREGORIAN
METHOD:PUBLISH
BEGIN:VEVENT
UID:15505260ef78875eec65616c77b967a8
CATEGORIES:Veranstaltungen
CREATED:20231201T084913
SUMMARY:Aufnahmeprüfungen für das Schuljahr 2024/25
DESCRIPTION:
DTSTAMP:20260425T204252
DTSTART:20240704T060000
DTEND:20240704T150000
SEQUENCE:0
TRANSP:OPAQUE
END:VEVENT
END:VCALENDAR