BEGIN:VCALENDAR
VERSION:2.0
PRODID:-//jEvents 2.0 for Joomla//EN
CALSCALE:GREGORIAN
METHOD:PUBLISH
BEGIN:VEVENT
UID:c52585eba35373bb54abe1ba12939b42
CATEGORIES:Veranstaltungen
CREATED:20231201T084824
SUMMARY:Sportwoche der 2.Klassen HAK/HTL und HLW nach Döbriach am  Millstättersee
DESCRIPTION:
DTSTAMP:20260425T185515
DTSTART:20240630T060000
DTEND:20240704T150000
SEQUENCE:0
TRANSP:OPAQUE
END:VEVENT
END:VCALENDAR