BEGIN:VCALENDAR
VERSION:2.0
PRODID:-//jEvents 2.0 for Joomla//EN
CALSCALE:GREGORIAN
METHOD:PUBLISH
BEGIN:VEVENT
UID:915e135485b84d9b025bc72cd53081d9
CATEGORIES:Veranstaltungen
CREATED:20231201T084712
SUMMARY:Veranstaltung "Tanzsommer" im Kongresshaus Innsbruck für alle 1.Klassen
DESCRIPTION:
DTSTAMP:20260425T185307
DTSTART:20240626T060000
DTEND:20240626T150000
SEQUENCE:0
TRANSP:OPAQUE
END:VEVENT
END:VCALENDAR