BEGIN:VCALENDAR
VERSION:2.0
PRODID:-//jEvents 2.0 for Joomla//EN
CALSCALE:GREGORIAN
METHOD:PUBLISH
BEGIN:VEVENT
UID:c4f892b20007e9e09b70052f6cd7385e
CATEGORIES:Veranstaltungen
CREATED:20231201T084624
SUMMARY:mündliche Kompensationsprüfungen der standardisierten Reife- und Diplomprüfung 2023/24
DESCRIPTION:
DTSTAMP:20260425T204153
DTSTART:20240603T060000
DTEND:20240603T120000
SEQUENCE:0
TRANSP:OPAQUE
END:VEVENT
END:VCALENDAR