BEGIN:VCALENDAR
VERSION:2.0
PRODID:-//jEvents 2.0 for Joomla//EN
CALSCALE:GREGORIAN
METHOD:PUBLISH
BEGIN:VEVENT
UID:df6edc10af48ea01b9ff76ca51f4474e
CATEGORIES:Veranstaltungen
CREATED:20231201T084515
SUMMARY:Sprachreise San Remo 4.Klassen HAK und HLW
DESCRIPTION:
DTSTAMP:20260425T171616
DTSTART:20240526T060000
DTEND:20240531T150000
SEQUENCE:0
TRANSP:OPAQUE
END:VEVENT
END:VCALENDAR