BEGIN:VCALENDAR
VERSION:2.0
PRODID:-//jEvents 2.0 for Joomla//EN
CALSCALE:GREGORIAN
METHOD:PUBLISH
BEGIN:VEVENT
UID:f8f79bbad6e7412e4643ef022f0877fb
CATEGORIES:Veranstaltungen
CREATED:20231201T084416
SUMMARY:schriftliche Reife- und Diplomprüfung 2023/24 Italienisch
DESCRIPTION:
DTSTAMP:20260425T171123
DTSTART:20240514T060000
DTEND:20240514T110000
SEQUENCE:0
TRANSP:OPAQUE
END:VEVENT
END:VCALENDAR