BEGIN:VCALENDAR
VERSION:2.0
PRODID:-//jEvents 2.0 for Joomla//EN
CALSCALE:GREGORIAN
METHOD:PUBLISH
BEGIN:VEVENT
UID:16b56db0e66190ac18cb8ff05d2568a0
CATEGORIES:Veranstaltungen
CREATED:20231201T084330
SUMMARY:schriftliche Reife- und Diplomprüfung 2023/24 Französisch
DESCRIPTION:
DTSTAMP:20260425T171144
DTSTART:20240513T060000
DTEND:20240513T110000
SEQUENCE:0
TRANSP:OPAQUE
END:VEVENT
END:VCALENDAR