BEGIN:VCALENDAR
VERSION:2.0
PRODID:-//jEvents 2.0 for Joomla//EN
CALSCALE:GREGORIAN
METHOD:PUBLISH
BEGIN:VEVENT
UID:0136952a71ebad9be000722c14d8ccf8
CATEGORIES:Veranstaltungen
CREATED:20231201T082658
SUMMARY:schriftliche Reife- und Diplomprüfung 2023/24 Englisch
DESCRIPTION:
DTSTAMP:20260425T170959
DTSTART:20240508T060000
DTEND:20240508T120000
SEQUENCE:0
TRANSP:OPAQUE
END:VEVENT
END:VCALENDAR