BEGIN:VCALENDAR
VERSION:2.0
PRODID:-//jEvents 2.0 for Joomla//EN
CALSCALE:GREGORIAN
METHOD:PUBLISH
BEGIN:VEVENT
UID:284740b34d9479fa0c624ba82ba833e5
CATEGORIES:Veranstaltungen
CREATED:20231201T082546
SUMMARY:schriftliche Reife- und Diplomprüfung 2023/24 Mathematik - angewandte Mathematik
DESCRIPTION:
DTSTAMP:20260425T171129
DTSTART:20240507T060000
DTEND:20240507T120000
SEQUENCE:0
TRANSP:OPAQUE
END:VEVENT
END:VCALENDAR