BEGIN:VCALENDAR
VERSION:2.0
PRODID:-//jEvents 2.0 for Joomla//EN
CALSCALE:GREGORIAN
METHOD:PUBLISH
BEGIN:VEVENT
UID:65109a05b246d1eceea88046d62b599f
CATEGORIES:Veranstaltungen
CREATED:20231201T082445
SUMMARY:schriftliche Reife- und Diplomprüfung 2023/24 Deutsch
DESCRIPTION:
DTSTAMP:20260425T171144
DTSTART:20240502T060000
DTEND:20240502T120000
SEQUENCE:0
TRANSP:OPAQUE
END:VEVENT
END:VCALENDAR