BEGIN:VCALENDAR
VERSION:2.0
PRODID:-//jEvents 2.0 for Joomla//EN
CALSCALE:GREGORIAN
METHOD:PUBLISH
BEGIN:VEVENT
UID:41b12bde59c15c605c53c5afbcb9049f
CATEGORIES:Veranstaltungen
CREATED:20231201T081753
SUMMARY:Schüleraustausch Reutte in Frankreich
DESCRIPTION:
DTSTAMP:20260425T154430
DTSTART:20240406T060000
DTEND:20240412T150000
SEQUENCE:0
TRANSP:OPAQUE
END:VEVENT
END:VCALENDAR