BEGIN:VCALENDAR
VERSION:2.0
PRODID:-//jEvents 2.0 for Joomla//EN
CALSCALE:GREGORIAN
METHOD:PUBLISH
BEGIN:VEVENT
UID:a3d0b19e60d29037ebf317c855ebdaa5
CATEGORIES:Veranstaltungen
CREATED:20231201T081632
SUMMARY:Schüleraustausch Reutte in Cles
DESCRIPTION:
DTSTAMP:20260425T171501
DTSTART:20240226T070000
DTEND:20240301T160000
SEQUENCE:0
TRANSP:OPAQUE
END:VEVENT
END:VCALENDAR