BEGIN:VCALENDAR
VERSION:2.0
PRODID:-//jEvents 2.0 for Joomla//EN
CALSCALE:GREGORIAN
METHOD:PUBLISH
BEGIN:VEVENT
UID:619f3c3f2ba97dc99cb5b9ad3d0fcee1
CATEGORIES:Veranstaltungen
CREATED:20231201T081506
SUMMARY:Beginn der Anmeldefrist für das Schuljahr 2024/25
DESCRIPTION:
DTSTAMP:20260425T171503
DTSTART:20240209T070000
DTEND:20240301T160000
SEQUENCE:0
TRANSP:OPAQUE
END:VEVENT
END:VCALENDAR