BEGIN:VCALENDAR
VERSION:2.0
PRODID:-//jEvents 2.0 for Joomla//EN
CALSCALE:GREGORIAN
METHOD:PUBLISH
BEGIN:VEVENT
UID:4cb81dc61bef21d4f58ce7d68aebc6ff
CATEGORIES:Veranstaltungen
CREATED:20231201T081423
SUMMARY:Verteilung der Semesternachrichten Schuljahr 2023/2024
DESCRIPTION:
DTSTAMP:20260425T185606
DTSTART:20240209T070000
DTEND:20240209T110000
SEQUENCE:0
TRANSP:OPAQUE
END:VEVENT
END:VCALENDAR