BEGIN:VCALENDAR
VERSION:2.0
PRODID:-//jEvents 2.0 for Joomla//EN
CALSCALE:GREGORIAN
METHOD:PUBLISH
BEGIN:VEVENT
UID:39e03249ca0b7d82aaf1385bd1ec7bdd
CATEGORIES:Veranstaltungen
CREATED:20231201T081331
SUMMARY:Unsinniger Donnerstag
DESCRIPTION:
DTSTAMP:20260425T172522
DTSTART:20240208T130000
DTEND:20240208T160000
SEQUENCE:0
TRANSP:OPAQUE
END:VEVENT
END:VCALENDAR