BEGIN:VCALENDAR
VERSION:2.0
PRODID:-//jEvents 2.0 for Joomla//EN
CALSCALE:GREGORIAN
METHOD:PUBLISH
BEGIN:VEVENT
UID:ae1788ea2de84c3a50389742141ff503
CATEGORIES:Veranstaltungen
CREATED:20231201T081259
SUMMARY:Karrieretag
DESCRIPTION:
DTSTAMP:20260425T172746
DTSTART:20240207T093000
DTEND:20240207T123000
SEQUENCE:0
TRANSP:OPAQUE
END:VEVENT
END:VCALENDAR