BEGIN:VCALENDAR
VERSION:2.0
PRODID:-//jEvents 2.0 for Joomla//EN
CALSCALE:GREGORIAN
METHOD:PUBLISH
BEGIN:VEVENT
UID:a7dee76c9ad3918c341ff37fc2664e20
CATEGORIES:Veranstaltungen
CREATED:20231201T081227
SUMMARY:Exkursion der 5wa und 5wa ins Landesgericht Innsbruck
DESCRIPTION:
DTSTAMP:20260425T140000
DTSTART:20240206T070000
DTEND:20240206T160000
SEQUENCE:0
TRANSP:OPAQUE
END:VEVENT
END:VCALENDAR