BEGIN:VCALENDAR
VERSION:2.0
PRODID:-//jEvents 2.0 for Joomla//EN
CALSCALE:GREGORIAN
METHOD:PUBLISH
BEGIN:VEVENT
UID:696469f6371e54164cd0ac5d6a1bc739
CATEGORIES:Veranstaltungen
CREATED:20231201T081027
SUMMARY:Schüleraustausch Frankreich in Reutte
DESCRIPTION:
DTSTAMP:20260425T140641
DTSTART:20240203T140000
DTEND:20240209T080000
SEQUENCE:0
TRANSP:OPAQUE
END:VEVENT
END:VCALENDAR