BEGIN:VCALENDAR
VERSION:2.0
PRODID:-//jEvents 2.0 for Joomla//EN
CALSCALE:GREGORIAN
METHOD:PUBLISH
BEGIN:VEVENT
UID:a8709fb579c2a4afb52d7d1bf0a4ec31
CATEGORIES:Veranstaltungen
CREATED:20231201T080908
SUMMARY:Schüleraustausch Cles in Reutte
DESCRIPTION:
DTSTAMP:20260425T140648
DTSTART:20240129T100000
DTEND:20240202T110000
SEQUENCE:0
TRANSP:OPAQUE
END:VEVENT
END:VCALENDAR