BEGIN:VCALENDAR
VERSION:2.0
PRODID:-//jEvents 2.0 for Joomla//EN
CALSCALE:GREGORIAN
METHOD:PUBLISH
BEGIN:VEVENT
UID:076d65497e0dd78b7a6883ea73170af4
CATEGORIES:Veranstaltungen
CREATED:20231201T080532
SUMMARY:Christmas4Good - Weihnachtsmarkt in der HLW
DESCRIPTION:
DTSTAMP:20260425T171318
DTSTART:20231213T153000
DTEND:20231213T180000
SEQUENCE:0
TRANSP:OPAQUE
END:VEVENT
END:VCALENDAR