BEGIN:VCALENDAR
VERSION:2.0
PRODID:-//jEvents 2.0 for Joomla//EN
CALSCALE:GREGORIAN
METHOD:PUBLISH
BEGIN:VEVENT
UID:369c919fc679de8d5e58a6380fdd0778
CATEGORIES:Veranstaltungen
CREATED:20231113T145929
SUMMARY:2. pädagogische Konferenz
DESCRIPTION:
DTSTAMP:20260425T171624
DTSTART:20231206T130000
DTEND:20231206T170000
SEQUENCE:0
TRANSP:OPAQUE
END:VEVENT
END:VCALENDAR