BEGIN:VCALENDAR
VERSION:2.0
PRODID:-//jEvents 2.0 for Joomla//EN
CALSCALE:GREGORIAN
METHOD:PUBLISH
BEGIN:VEVENT
UID:a04a34e7c915e5c1b69b40ad15053268
CATEGORIES:Veranstaltungen
CREATED:20231113T145817
SUMMARY:Fahrt zur SPS-Messe in Nürnberg 3. und 4.HTL-Klassen
DESCRIPTION:
DTSTAMP:20260425T185310
DTSTART:20231116T060000
DTEND:20231116T190000
SEQUENCE:0
TRANSP:OPAQUE
END:VEVENT
END:VCALENDAR