BEGIN:VCALENDAR
VERSION:2.0
PRODID:-//jEvents 2.0 for Joomla//EN
CALSCALE:GREGORIAN
METHOD:PUBLISH
BEGIN:VEVENT
UID:04c4220aaa330dd5ff21b5e8f2c0576f
CATEGORIES:Veranstaltungen
CREATED:20231113T145723
SUMMARY:Abschlussevent Bürgerdialog im Veranstaltungszentrum Breitenwang
DESCRIPTION:
DTSTAMP:20260425T185523
DTSTART:20231117T093000
DTEND:20231117T114500
SEQUENCE:0
TRANSP:OPAQUE
END:VEVENT
END:VCALENDAR