BEGIN:VCALENDAR
VERSION:2.0
PRODID:-//jEvents 2.0 for Joomla//EN
CALSCALE:GREGORIAN
METHOD:PUBLISH
BEGIN:VEVENT
UID:50077df552c62176cad028adc3c1988e
CATEGORIES:Veranstaltungen
CREATED:20231025T143014
SUMMARY:Messe für weiterführende Schulen an der WK Reutte
DESCRIPTION:
DTSTAMP:20260425T185258
DTSTART:20231130T170000
DTEND:20231130T200000
SEQUENCE:0
TRANSP:OPAQUE
END:VEVENT
END:VCALENDAR