BEGIN:VCALENDAR
VERSION:2.0
PRODID:-//jEvents 2.0 for Joomla//EN
CALSCALE:GREGORIAN
METHOD:PUBLISH
BEGIN:VEVENT
UID:a5c76f173922a15921adc2f901b38524
CATEGORIES:Veranstaltungen
CREATED:20231025T142528
SUMMARY:Tiroler Hochschultag 
DESCRIPTION:
DTSTAMP:20260425T185637
DTSTART:20231113T080000
DTEND:20231113T100000
SEQUENCE:0
TRANSP:OPAQUE
END:VEVENT
END:VCALENDAR