BEGIN:VCALENDAR
VERSION:2.0
PRODID:-//jEvents 2.0 for Joomla//EN
CALSCALE:GREGORIAN
METHOD:PUBLISH
BEGIN:VEVENT
UID:29e1e5eeeb8df900208b7c1fea2af1b5
CATEGORIES:Veranstaltungen
CREATED:20231025T142424
SUMMARY:Projekt "Kinder entdecken Wirtschaft" an der Wirtschaftskammer Reutte
DESCRIPTION:
DTSTAMP:20260425T185307
DTSTART:20231113T070000
DTEND:20231113T160000
SEQUENCE:0
TRANSP:OPAQUE
END:VEVENT
END:VCALENDAR