BEGIN:VCALENDAR
VERSION:2.0
PRODID:-//jEvents 2.0 for Joomla//EN
CALSCALE:GREGORIAN
METHOD:PUBLISH
BEGIN:VEVENT
UID:5d13a1de8f528fad74a92f66d5efd695
CATEGORIES:Veranstaltungen
CREATED:20231009T115936
SUMMARY:Elternabend 1a
DESCRIPTION:
DTSTAMP:20260425T204501
DTSTART:20231024T163000
DTEND:20231024T190000
SEQUENCE:0
TRANSP:OPAQUE
END:VEVENT
END:VCALENDAR