BEGIN:VCALENDAR
VERSION:2.0
PRODID:-//jEvents 2.0 for Joomla//EN
CALSCALE:GREGORIAN
METHOD:PUBLISH
BEGIN:VEVENT
UID:1ca84db77763a0eac27944af75fc0d17
CATEGORIES:Veranstaltungen
CREATED:20231009T114714
SUMMARY:Elternabend 1wa und 1wb
DESCRIPTION:
DTSTAMP:20260425T204011
DTSTART:20231019T163000
DTEND:20231019T190000
SEQUENCE:0
TRANSP:OPAQUE
END:VEVENT
END:VCALENDAR