BEGIN:VCALENDAR
VERSION:2.0
PRODID:-//jEvents 2.0 for Joomla//EN
CALSCALE:GREGORIAN
METHOD:PUBLISH
BEGIN:VEVENT
UID:dfbc419486f51140be08b3a257e2f035
CATEGORIES:Veranstaltungen
CREATED:20231009T114608
SUMMARY:Elternabend 1.HTL
DESCRIPTION:
DTSTAMP:20260425T204348
DTSTART:20231017T163000
DTEND:20231017T190000
SEQUENCE:0
TRANSP:OPAQUE
END:VEVENT
END:VCALENDAR