BEGIN:VCALENDAR
VERSION:2.0
PRODID:-//jEvents 2.0 for Joomla//EN
CALSCALE:GREGORIAN
METHOD:PUBLISH
BEGIN:VEVENT
UID:a68f9ca0a70a1d04922094b36bf07a2a
CATEGORIES:Veranstaltungen
CREATED:20231009T114459
SUMMARY:HTL-Tage in Innsbruck in der HTL Technikerstraße
DESCRIPTION:
DTSTAMP:20260425T204324
DTSTART:20231013T110000
DTEND:20231014T150000
SEQUENCE:0
TRANSP:OPAQUE
END:VEVENT
END:VCALENDAR